BEGIN:VCALENDAR
VERSION:2.0
PRODID:-//ChamberMaster//Event Calendar 2.0//EN
METHOD:PUBLISH
X-PUBLISHED-TTL:P3D
REFRESH-INTERVAL:P3D
CALSCALE:GREGORIAN
BEGIN:VEVENT
DTSTART:20200808T010000Z
DTEND:20200808T040000Z
X-MICROSOFT-CDO-ALLDAYEVENT:FALSE
SUMMARY:First Friday Gallery Walk
DESCRIPTION:First Friday Gallery Walk - Come downtown and enjoy the galleries.
X-ALT-DESC;FMTTYPE=text/html:First Friday Gallery Walk -&nbsp\;<em>Come downtown and enjoy the galleries.</em>
LOCATION:
UID:e.228.18683
SEQUENCE:3
DTSTAMP:20260422T084946Z
URL:http://cm.anacortes.org/events/details/first-friday-gallery-walk-08-07-2020-18683
END:VEVENT

END:VCALENDAR
