BEGIN:VCALENDAR
VERSION:2.0
PRODID:-//ChamberMaster//Event Calendar 2.0//EN
METHOD:PUBLISH
X-PUBLISHED-TTL:P3D
REFRESH-INTERVAL:P3D
CALSCALE:GREGORIAN
BEGIN:VEVENT
DTSTART:20321118T223000Z
DTEND:20321119T000000Z
X-MICROSOFT-CDO-ALLDAYEVENT:FALSE
SUMMARY:Stroke Support Group
DESCRIPTION:Please join us if you or someone you love has been affected by Stroke. It is a safe space to share and learn from others.
X-ALT-DESC;FMTTYPE=text/html:Please join us if you or someone you love has been affected by Stroke. It is a safe space to share and learn from others.
LOCATION:1300 9th St Anacortes\, WA 98221
UID:e.228.24459
SEQUENCE:3
DTSTAMP:20260420T025036Z
URL:http://cm.anacortes.org/events/details/stroke-support-group-11-18-2032-24459
END:VEVENT

END:VCALENDAR
